Workbook

Sheet Budget tracker
A1: BIG DAY PRODUCTIONS • FICTIONAL WORKED EXAMPLE • GBP
A2: 1 Set your budget. 2 Enter one cost per row. 3 Update cumulative paid and replace the next instalment after payment.
A3: You enter: cream cells A–I and C5:C7. Automatic: sage cells J–L and totals. Blank = unknown; 0 = confirmed zero.
A4: You enter | D4: Automatic
A5: Your total budget | C5: 20000 | D5: Your total budget | G5: =Summary!B3 -> 20000 | I5: Created by Big Day Productions Your wedding. Your priorities. Your plan.
A6: Guests (reference only) | C6: 60 | D6: Expected total, including contingency | G6: =Summary!B5 -> 18420
A7: Unallocated contingency | C7: 1500 | D7: Budget left to allocate | G7: =Summary!B7 -> 1580 | I7: Instructions & a fresh copy:
D8: Paid so far | G8: =Summary!E3 -> 4050 | I8: https://bigdayproductions.co.uk/blog/free-wedding-budget-spreadsheet-uk
A9: Summary → | D9: Still to pay on booked suppliers | G9: =Summary!E5 -> 7400
A10: Help / compatibility → | D10: Listed items still needing a price | G10: =Summary!F9 -> 3
D11: Checks to review | G11: =Summary!E7 -> 0
A12: Costs you haven’t entered yet aren’t included. See the live unpriced count above; unused spare rows do not count.
A13: FICTIONAL amounts only — not quotes or recommended spending.
A14: You enter | J14: Automatic — do not overwrite
A15: Category | B15: Item / supplier | C15: Planned budget | D15: Quoted cost | E15: Agreed cost | F15: Amount paid (cumulative) | G15: Next instalment amount | H15: Next payment date | I15: Notes | J15: Remaining balance | K15: Forecast cost | L15: Check
A16: Venue & catering | B16: Venue package | C16: 8000 | D16: 8200 | E16: 8000 | F16: 2000 | G16: 3000 | H16: 46508 | I16: Fictional package includes evening food and corkage. | J16: =IF(AND(ISNUMBER(E16),E16>=0),E16-IF(AND(ISNUMBER(F16),F16>=0),F16,0),"") -> 6000 | K16: =IF(AND(ISNUMBER(E16),E16>=0),E16,IF(AND(ISNUMBER(D16),D16>=0),D16,IF(AND(ISNUMBER(C16),C16>=0),C16,""))) -> 8000 | L16: =IF(OR(AND(C16<>"",NOT(AND(ISNUMBER(C16),C16>=0))),AND(D16<>"",NOT(AND(ISNUMBER(D16),D16>=0))),AND(E16<>"",NOT(AND(ISNUMBER(E16),E16>=0))),AND(F16<>"",NOT(AND(ISNUMBER(F16),F16>=0)))),"REVIEW COST / PAID",IF(AND(F16<>"",NOT(AND(ISNUMBER(E16),E16>=0))),"ADD AGREED COST",IF(AND(ISNUMBER(J16),J16<0),"OVERPAID",IF(AND(ISNUMBER(J16),J16=0,OR(G16<>"",H16<>"")),"CLEAR PAID INSTALMENT",IF(AND(OR(G16<>"",H16<>""),B16=""),"ADD ITEM / SUPPLIER",IF(AND(OR(G16<>"",H16<>""),NOT(AND(ISNUMBER(E16),E16>=0))),"ADD AGREED COST",IF(AND(OR(G16<>"",H16<>""),NOT(AND(ISNUMBER(G16),G16>=0))),"ADD / CHECK NEXT AMOUNT",IF(AND(OR(G16<>"",H16<>""),NOT(AND(ISNUMBER(H16),H16>=1,H16<=2958465,H16=IF(ISNUMBER(H16),INT(H16),0)))),"ADD / CHECK NEXT DATE",IF(AND(OR(G16<>"",H16<>""),OR(G16<=0,G16>J16)),"REVIEW INSTALMENT",IF(AND(ISNUMBER(J16),J16>0,NOT(OR(G16<>"",H16<>""))),"ENTER NEXT PAYMENT",IF(AND(OR(G16<>"",H16<>""),H16<TODAY()),"OVERDUE ENTERED PAYMENT",""))))))))))) | M16: =IF(AND(COUNTA(A16:I16)>0,NOT(OR(AND(ISNUMBER(C16),C16>=0),AND(ISNUMBER(D16),D16>=0),AND(ISNUMBER(E16),E16>=0)))),1,0) -> 0 | N16: =IF(AND(AND(ISNUMBER(J16),J16>0,OR(L16="",L16="OVERDUE ENTERED PAYMENT"),AND(ISNUMBER(G16),G16>=0),G16>0,AND(ISNUMBER(H16),H16>=1,H16<=2958465,H16=IF(ISNUMBER(H16),INT(H16),0))),H16>=TODAY(),H16<=TODAY()+30),G16,0) -> 0 | O16: =IF(AND(AND(ISNUMBER(J16),J16>0,OR(L16="",L16="OVERDUE ENTERED PAYMENT"),AND(ISNUMBER(G16),G16>=0),G16>0,AND(ISNUMBER(H16),H16>=1,H16<=2958465,H16=IF(ISNUMBER(H16),INT(H16),0))),H16<TODAY()),G16,0) -> 0
A17: Ceremony | B17: Registrar fees | C17: 600 | D17: 600 | E17: 600 | F17: 600 | J17: =IF(AND(ISNUMBER(E17),E17>=0),E17-IF(AND(ISNUMBER(F17),F17>=0),F17,0),"") -> 0 | K17: =IF(AND(ISNUMBER(E17),E17>=0),E17,IF(AND(ISNUMBER(D17),D17>=0),D17,IF(AND(ISNUMBER(C17),C17>=0),C17,""))) -> 600 | L17: =IF(OR(AND(C17<>"",NOT(AND(ISNUMBER(C17),C17>=0))),AND(D17<>"",NOT(AND(ISNUMBER(D17),D17>=0))),AND(E17<>"",NOT(AND(ISNUMBER(E17),E17>=0))),AND(F17<>"",NOT(AND(ISNUMBER(F17),F17>=0)))),"REVIEW COST / PAID",IF(AND(F17<>"",NOT(AND(ISNUMBER(E17),E17>=0))),"ADD AGREED COST",IF(AND(ISNUMBER(J17),J17<0),"OVERPAID",IF(AND(ISNUMBER(J17),J17=0,OR(G17<>"",H17<>"")),"CLEAR PAID INSTALMENT",IF(AND(OR(G17<>"",H17<>""),B17=""),"ADD ITEM / SUPPLIER",IF(AND(OR(G17<>"",H17<>""),NOT(AND(ISNUMBER(E17),E17>=0))),"ADD AGREED COST",IF(AND(OR(G17<>"",H17<>""),NOT(AND(ISNUMBER(G17),G17>=0))),"ADD / CHECK NEXT AMOUNT",IF(AND(OR(G17<>"",H17<>""),NOT(AND(ISNUMBER(H17),H17>=1,H17<=2958465,H17=IF(ISNUMBER(H17),INT(H17),0)))),"ADD / CHECK NEXT DATE",IF(AND(OR(G17<>"",H17<>""),OR(G17<=0,G17>J17)),"REVIEW INSTALMENT",IF(AND(ISNUMBER(J17),J17>0,NOT(OR(G17<>"",H17<>""))),"ENTER NEXT PAYMENT",IF(AND(OR(G17<>"",H17<>""),H17<TODAY()),"OVERDUE ENTERED PAYMENT",""))))))))))) | M17: =IF(AND(COUNTA(A17:I17)>0,NOT(OR(AND(ISNUMBER(C17),C17>=0),AND(ISNUMBER(D17),D17>=0),AND(ISNUMBER(E17),E17>=0)))),1,0) -> 0 | N17: =IF(AND(AND(ISNUMBER(J17),J17>0,OR(L17="",L17="OVERDUE ENTERED PAYMENT"),AND(ISNUMBER(G17),G17>=0),G17>0,AND(ISNUMBER(H17),H17>=1,H17<=2958465,H17=IF(ISNUMBER(H17),INT(H17),0))),H17>=TODAY(),H17<=TODAY()+30),G17,0) -> 0 | O17: =IF(AND(AND(ISNUMBER(J17),J17>0,OR(L17="",L17="OVERDUE ENTERED PAYMENT"),AND(ISNUMBER(G17),G17>=0),G17>0,AND(ISNUMBER(H17),H17>=1,H17<=2958465,H17=IF(ISNUMBER(H17),INT(H17),0))),H17<TODAY()),G17,0) -> 0
A18: Photography | B18: Photography | C18: 1800 | D18: 1750 | E18: 1750 | F18: 350 | G18: 700 | H18: 46522 | I18: Fictional deposit £350 included in cumulative Amount paid. | J18: =IF(AND(ISNUMBER(E18),E18>=0),E18-IF(AND(ISNUMBER(F18),F18>=0),F18,0),"") -> 1400 | K18: =IF(AND(ISNUMBER(E18),E18>=0),E18,IF(AND(ISNUMBER(D18),D18>=0),D18,IF(AND(ISNUMBER(C18),C18>=0),C18,""))) -> 1750 | L18: =IF(OR(AND(C18<>"",NOT(AND(ISNUMBER(C18),C18>=0))),AND(D18<>"",NOT(AND(ISNUMBER(D18),D18>=0))),AND(E18<>"",NOT(AND(ISNUMBER(E18),E18>=0))),AND(F18<>"",NOT(AND(ISNUMBER(F18),F18>=0)))),"REVIEW COST / PAID",IF(AND(F18<>"",NOT(AND(ISNUMBER(E18),E18>=0))),"ADD AGREED COST",IF(AND(ISNUMBER(J18),J18<0),"OVERPAID",IF(AND(ISNUMBER(J18),J18=0,OR(G18<>"",H18<>"")),"CLEAR PAID INSTALMENT",IF(AND(OR(G18<>"",H18<>""),B18=""),"ADD ITEM / SUPPLIER",IF(AND(OR(G18<>"",H18<>""),NOT(AND(ISNUMBER(E18),E18>=0))),"ADD AGREED COST",IF(AND(OR(G18<>"",H18<>""),NOT(AND(ISNUMBER(G18),G18>=0))),"ADD / CHECK NEXT AMOUNT",IF(AND(OR(G18<>"",H18<>""),NOT(AND(ISNUMBER(H18),H18>=1,H18<=2958465,H18=IF(ISNUMBER(H18),INT(H18),0)))),"ADD / CHECK NEXT DATE",IF(AND(OR(G18<>"",H18<>""),OR(G18<=0,G18>J18)),"REVIEW INSTALMENT",IF(AND(ISNUMBER(J18),J18>0,NOT(OR(G18<>"",H18<>""))),"ENTER NEXT PAYMENT",IF(AND(OR(G18<>"",H18<>""),H18<TODAY()),"OVERDUE ENTERED PAYMENT",""))))))))))) | M18: =IF(AND(COUNTA(A18:I18)>0,NOT(OR(AND(ISNUMBER(C18),C18>=0),AND(ISNUMBER(D18),D18>=0),AND(ISNUMBER(E18),E18>=0)))),1,0) -> 0 | N18: =IF(AND(AND(ISNUMBER(J18),J18>0,OR(L18="",L18="OVERDUE ENTERED PAYMENT"),AND(ISNUMBER(G18),G18>=0),G18>0,AND(ISNUMBER(H18),H18>=1,H18<=2958465,H18=IF(ISNUMBER(H18),INT(H18),0))),H18>=TODAY(),H18<=TODAY()+30),G18,0) -> 0 | O18: =IF(AND(AND(ISNUMBER(J18),J18>0,OR(L18="",L18="OVERDUE ENTERED PAYMENT"),AND(ISNUMBER(G18),G18>=0),G18>0,AND(ISNUMBER(H18),H18>=1,H18<=2958465,H18=IF(ISNUMBER(H18),INT(H18),0))),H18<TODAY()),G18,0) -> 0
A19: Film | B19: Wedding film | C19: 1600 | D19: 1500 | J19: =IF(AND(ISNUMBER(E19),E19>=0),E19-IF(AND(ISNUMBER(F19),F19>=0),F19,0),"") | K19: =IF(AND(ISNUMBER(E19),E19>=0),E19,IF(AND(ISNUMBER(D19),D19>=0),D19,IF(AND(ISNUMBER(C19),C19>=0),C19,""))) -> 1500 | L19: =IF(OR(AND(C19<>"",NOT(AND(ISNUMBER(C19),C19>=0))),AND(D19<>"",NOT(AND(ISNUMBER(D19),D19>=0))),AND(E19<>"",NOT(AND(ISNUMBER(E19),E19>=0))),AND(F19<>"",NOT(AND(ISNUMBER(F19),F19>=0)))),"REVIEW COST / PAID",IF(AND(F19<>"",NOT(AND(ISNUMBER(E19),E19>=0))),"ADD AGREED COST",IF(AND(ISNUMBER(J19),J19<0),"OVERPAID",IF(AND(ISNUMBER(J19),J19=0,OR(G19<>"",H19<>"")),"CLEAR PAID INSTALMENT",IF(AND(OR(G19<>"",H19<>""),B19=""),"ADD ITEM / SUPPLIER",IF(AND(OR(G19<>"",H19<>""),NOT(AND(ISNUMBER(E19),E19>=0))),"ADD AGREED COST",IF(AND(OR(G19<>"",H19<>""),NOT(AND(ISNUMBER(G19),G19>=0))),"ADD / CHECK NEXT AMOUNT",IF(AND(OR(G19<>"",H19<>""),NOT(AND(ISNUMBER(H19),H19>=1,H19<=2958465,H19=IF(ISNUMBER(H19),INT(H19),0)))),"ADD / CHECK NEXT DATE",IF(AND(OR(G19<>"",H19<>""),OR(G19<=0,G19>J19)),"REVIEW INSTALMENT",IF(AND(ISNUMBER(J19),J19>0,NOT(OR(G19<>"",H19<>""))),"ENTER NEXT PAYMENT",IF(AND(OR(G19<>"",H19<>""),H19<TODAY()),"OVERDUE ENTERED PAYMENT",""))))))))))) | M19: =IF(AND(COUNTA(A19:I19)>0,NOT(OR(AND(ISNUMBER(C19),C19>=0),AND(ISNUMBER(D19),D19>=0),AND(ISNUMBER(E19),E19>=0)))),1,0) -> 0 | N19: =IF(AND(AND(ISNUMBER(J19),J19>0,OR(L19="",L19="OVERDUE ENTERED PAYMENT"),AND(ISNUMBER(G19),G19>=0),G19>0,AND(ISNUMBER(H19),H19>=1,H19<=2958465,H19=IF(ISNUMBER(H19),INT(H19),0))),H19>=TODAY(),H19<=TODAY()+30),G19,0) -> 0 | O19: =IF(AND(AND(ISNUMBER(J19),J19>0,OR(L19="",L19="OVERDUE ENTERED PAYMENT"),AND(ISNUMBER(G19),G19>=0),G19>0,AND(ISNUMBER(H19),H19>=1,H19<=2958465,H19=IF(ISNUMBER(H19),INT(H19),0))),H19<TODAY()),G19,0) -> 0
A20: Flowers & decor | B20: Flowers | C20: 800 | D20: 900 | J20: =IF(AND(ISNUMBER(E20),E20>=0),E20-IF(AND(ISNUMBER(F20),F20>=0),F20,0),"") | K20: =IF(AND(ISNUMBER(E20),E20>=0),E20,IF(AND(ISNUMBER(D20),D20>=0),D20,IF(AND(ISNUMBER(C20),C20>=0),C20,""))) -> 900 | L20: =IF(OR(AND(C20<>"",NOT(AND(ISNUMBER(C20),C20>=0))),AND(D20<>"",NOT(AND(ISNUMBER(D20),D20>=0))),AND(E20<>"",NOT(AND(ISNUMBER(E20),E20>=0))),AND(F20<>"",NOT(AND(ISNUMBER(F20),F20>=0)))),"REVIEW COST / PAID",IF(AND(F20<>"",NOT(AND(ISNUMBER(E20),E20>=0))),"ADD AGREED COST",IF(AND(ISNUMBER(J20),J20<0),"OVERPAID",IF(AND(ISNUMBER(J20),J20=0,OR(G20<>"",H20<>"")),"CLEAR PAID INSTALMENT",IF(AND(OR(G20<>"",H20<>""),B20=""),"ADD ITEM / SUPPLIER",IF(AND(OR(G20<>"",H20<>""),NOT(AND(ISNUMBER(E20),E20>=0))),"ADD AGREED COST",IF(AND(OR(G20<>"",H20<>""),NOT(AND(ISNUMBER(G20),G20>=0))),"ADD / CHECK NEXT AMOUNT",IF(AND(OR(G20<>"",H20<>""),NOT(AND(ISNUMBER(H20),H20>=1,H20<=2958465,H20=IF(ISNUMBER(H20),INT(H20),0)))),"ADD / CHECK NEXT DATE",IF(AND(OR(G20<>"",H20<>""),OR(G20<=0,G20>J20)),"REVIEW INSTALMENT",IF(AND(ISNUMBER(J20),J20>0,NOT(OR(G20<>"",H20<>""))),"ENTER NEXT PAYMENT",IF(AND(OR(G20<>"",H20<>""),H20<TODAY()),"OVERDUE ENTERED PAYMENT",""))))))))))) | M20: =IF(AND(COUNTA(A20:I20)>0,NOT(OR(AND(ISNUMBER(C20),C20>=0),AND(ISNUMBER(D20),D20>=0),AND(ISNUMBER(E20),E20>=0)))),1,0) -> 0 | N20: =IF(AND(AND(ISNUMBER(J20),J20>0,OR(L20="",L20="OVERDUE ENTERED PAYMENT"),AND(ISNUMBER(G20),G20>=0),G20>0,AND(ISNUMBER(H20),H20>=1,H20<=2958465,H20=IF(ISNUMBER(H20),INT(H20),0))),H20>=TODAY(),H20<=TODAY()+30),G20,0) -> 0 | O20: =IF(AND(AND(ISNUMBER(J20),J20>0,OR(L20="",L20="OVERDUE ENTERED PAYMENT"),AND(ISNUMBER(G20),G20>=0),G20>0,AND(ISNUMBER(H20),H20>=1,H20<=2958465,H20=IF(ISNUMBER(H20),INT(H20),0))),H20<TODAY()),G20,0) -> 0
A21: Attire | B21: Outfits | C21: 1200 | D21: 1100 | E21: 1100 | F21: 1100 | J21: =IF(AND(ISNUMBER(E21),E21>=0),E21-IF(AND(ISNUMBER(F21),F21>=0),F21,0),"") -> 0 | K21: =IF(AND(ISNUMBER(E21),E21>=0),E21,IF(AND(ISNUMBER(D21),D21>=0),D21,IF(AND(ISNUMBER(C21),C21>=0),C21,""))) -> 1100 | L21: =IF(OR(AND(C21<>"",NOT(AND(ISNUMBER(C21),C21>=0))),AND(D21<>"",NOT(AND(ISNUMBER(D21),D21>=0))),AND(E21<>"",NOT(AND(ISNUMBER(E21),E21>=0))),AND(F21<>"",NOT(AND(ISNUMBER(F21),F21>=0)))),"REVIEW COST / PAID",IF(AND(F21<>"",NOT(AND(ISNUMBER(E21),E21>=0))),"ADD AGREED COST",IF(AND(ISNUMBER(J21),J21<0),"OVERPAID",IF(AND(ISNUMBER(J21),J21=0,OR(G21<>"",H21<>"")),"CLEAR PAID INSTALMENT",IF(AND(OR(G21<>"",H21<>""),B21=""),"ADD ITEM / SUPPLIER",IF(AND(OR(G21<>"",H21<>""),NOT(AND(ISNUMBER(E21),E21>=0))),"ADD AGREED COST",IF(AND(OR(G21<>"",H21<>""),NOT(AND(ISNUMBER(G21),G21>=0))),"ADD / CHECK NEXT AMOUNT",IF(AND(OR(G21<>"",H21<>""),NOT(AND(ISNUMBER(H21),H21>=1,H21<=2958465,H21=IF(ISNUMBER(H21),INT(H21),0)))),"ADD / CHECK NEXT DATE",IF(AND(OR(G21<>"",H21<>""),OR(G21<=0,G21>J21)),"REVIEW INSTALMENT",IF(AND(ISNUMBER(J21),J21>0,NOT(OR(G21<>"",H21<>""))),"ENTER NEXT PAYMENT",IF(AND(OR(G21<>"",H21<>""),H21<TODAY()),"OVERDUE ENTERED PAYMENT",""))))))))))) | M21: =IF(AND(COUNTA(A21:I21)>0,NOT(OR(AND(ISNUMBER(C21),C21>=0),AND(ISNUMBER(D21),D21>=0),AND(ISNUMBER(E21),E21>=0)))),1,0) -> 0 | N21: =IF(AND(AND(ISNUMBER(J21),J21>0,OR(L21="",L21="OVERDUE ENTERED PAYMENT"),AND(ISNUMBER(G21),G21>=0),G21>0,AND(ISNUMBER(H21),H21>=1,H21<=2958465,H21=IF(ISNUMBER(H21),INT(H21),0))),H21>=TODAY(),H21<=TODAY()+30),G21,0) -> 0 | O21: =IF(AND(AND(ISNUMBER(J21),J21>0,OR(L21="",L21="OVERDUE ENTERED PAYMENT"),AND(ISNUMBER(G21),G21>=0),G21>0,AND(ISNUMBER(H21),H21>=1,H21<=2958465,H21=IF(ISNUMBER(H21),INT(H21),0))),H21<TODAY()),G21,0) -> 0
A22: Attire | B22: Alterations | C22: 250 | J22: =IF(AND(ISNUMBER(E22),E22>=0),E22-IF(AND(ISNUMBER(F22),F22>=0),F22,0),"") | K22: =IF(AND(ISNUMBER(E22),E22>=0),E22,IF(AND(ISNUMBER(D22),D22>=0),D22,IF(AND(ISNUMBER(C22),C22>=0),C22,""))) -> 250 | L22: =IF(OR(AND(C22<>"",NOT(AND(ISNUMBER(C22),C22>=0))),AND(D22<>"",NOT(AND(ISNUMBER(D22),D22>=0))),AND(E22<>"",NOT(AND(ISNUMBER(E22),E22>=0))),AND(F22<>"",NOT(AND(ISNUMBER(F22),F22>=0)))),"REVIEW COST / PAID",IF(AND(F22<>"",NOT(AND(ISNUMBER(E22),E22>=0))),"ADD AGREED COST",IF(AND(ISNUMBER(J22),J22<0),"OVERPAID",IF(AND(ISNUMBER(J22),J22=0,OR(G22<>"",H22<>"")),"CLEAR PAID INSTALMENT",IF(AND(OR(G22<>"",H22<>""),B22=""),"ADD ITEM / SUPPLIER",IF(AND(OR(G22<>"",H22<>""),NOT(AND(ISNUMBER(E22),E22>=0))),"ADD AGREED COST",IF(AND(OR(G22<>"",H22<>""),NOT(AND(ISNUMBER(G22),G22>=0))),"ADD / CHECK NEXT AMOUNT",IF(AND(OR(G22<>"",H22<>""),NOT(AND(ISNUMBER(H22),H22>=1,H22<=2958465,H22=IF(ISNUMBER(H22),INT(H22),0)))),"ADD / CHECK NEXT DATE",IF(AND(OR(G22<>"",H22<>""),OR(G22<=0,G22>J22)),"REVIEW INSTALMENT",IF(AND(ISNUMBER(J22),J22>0,NOT(OR(G22<>"",H22<>""))),"ENTER NEXT PAYMENT",IF(AND(OR(G22<>"",H22<>""),H22<TODAY()),"OVERDUE ENTERED PAYMENT",""))))))))))) | M22: =IF(AND(COUNTA(A22:I22)>0,NOT(OR(AND(ISNUMBER(C22),C22>=0),AND(ISNUMBER(D22),D22>=0),AND(ISNUMBER(E22),E22>=0)))),1,0) -> 0 | N22: =IF(AND(AND(ISNUMBER(J22),J22>0,OR(L22="",L22="OVERDUE ENTERED PAYMENT"),AND(ISNUMBER(G22),G22>=0),G22>0,AND(ISNUMBER(H22),H22>=1,H22<=2958465,H22=IF(ISNUMBER(H22),INT(H22),0))),H22>=TODAY(),H22<=TODAY()+30),G22,0) -> 0 | O22: =IF(AND(AND(ISNUMBER(J22),J22>0,OR(L22="",L22="OVERDUE ENTERED PAYMENT"),AND(ISNUMBER(G22),G22>=0),G22>0,AND(ISNUMBER(H22),H22>=1,H22<=2958465,H22=IF(ISNUMBER(H22),INT(H22),0))),H22<TODAY()),G22,0) -> 0
A23: Hair & makeup | B23: Hair & makeup | C23: 400 | J23: =IF(AND(ISNUMBER(E23),E23>=0),E23-IF(AND(ISNUMBER(F23),F23>=0),F23,0),"") | K23: =IF(AND(ISNUMBER(E23),E23>=0),E23,IF(AND(ISNUMBER(D23),D23>=0),D23,IF(AND(ISNUMBER(C23),C23>=0),C23,""))) -> 400 | L23: =IF(OR(AND(C23<>"",NOT(AND(ISNUMBER(C23),C23>=0))),AND(D23<>"",NOT(AND(ISNUMBER(D23),D23>=0))),AND(E23<>"",NOT(AND(ISNUMBER(E23),E23>=0))),AND(F23<>"",NOT(AND(ISNUMBER(F23),F23>=0)))),"REVIEW COST / PAID",IF(AND(F23<>"",NOT(AND(ISNUMBER(E23),E23>=0))),"ADD AGREED COST",IF(AND(ISNUMBER(J23),J23<0),"OVERPAID",IF(AND(ISNUMBER(J23),J23=0,OR(G23<>"",H23<>"")),"CLEAR PAID INSTALMENT",IF(AND(OR(G23<>"",H23<>""),B23=""),"ADD ITEM / SUPPLIER",IF(AND(OR(G23<>"",H23<>""),NOT(AND(ISNUMBER(E23),E23>=0))),"ADD AGREED COST",IF(AND(OR(G23<>"",H23<>""),NOT(AND(ISNUMBER(G23),G23>=0))),"ADD / CHECK NEXT AMOUNT",IF(AND(OR(G23<>"",H23<>""),NOT(AND(ISNUMBER(H23),H23>=1,H23<=2958465,H23=IF(ISNUMBER(H23),INT(H23),0)))),"ADD / CHECK NEXT DATE",IF(AND(OR(G23<>"",H23<>""),OR(G23<=0,G23>J23)),"REVIEW INSTALMENT",IF(AND(ISNUMBER(J23),J23>0,NOT(OR(G23<>"",H23<>""))),"ENTER NEXT PAYMENT",IF(AND(OR(G23<>"",H23<>""),H23<TODAY()),"OVERDUE ENTERED PAYMENT",""))))))))))) | M23: =IF(AND(COUNTA(A23:I23)>0,NOT(OR(AND(ISNUMBER(C23),C23>=0),AND(ISNUMBER(D23),D23>=0),AND(ISNUMBER(E23),E23>=0)))),1,0) -> 0 | N23: =IF(AND(AND(ISNUMBER(J23),J23>0,OR(L23="",L23="OVERDUE ENTERED PAYMENT"),AND(ISNUMBER(G23),G23>=0),G23>0,AND(ISNUMBER(H23),H23>=1,H23<=2958465,H23=IF(ISNUMBER(H23),INT(H23),0))),H23>=TODAY(),H23<=TODAY()+30),G23,0) -> 0 | O23: =IF(AND(AND(ISNUMBER(J23),J23>0,OR(L23="",L23="OVERDUE ENTERED PAYMENT"),AND(ISNUMBER(G23),G23>=0),G23>0,AND(ISNUMBER(H23),H23>=1,H23<=2958465,H23=IF(ISNUMBER(H23),INT(H23),0))),H23<TODAY()),G23,0) -> 0
A24: Entertainment | B24: DJ or band | C24: 600 | J24: =IF(AND(ISNUMBER(E24),E24>=0),E24-IF(AND(ISNUMBER(F24),F24>=0),F24,0),"") | K24: =IF(AND(ISNUMBER(E24),E24>=0),E24,IF(AND(ISNUMBER(D24),D24>=0),D24,IF(AND(ISNUMBER(C24),C24>=0),C24,""))) -> 600 | L24: =IF(OR(AND(C24<>"",NOT(AND(ISNUMBER(C24),C24>=0))),AND(D24<>"",NOT(AND(ISNUMBER(D24),D24>=0))),AND(E24<>"",NOT(AND(ISNUMBER(E24),E24>=0))),AND(F24<>"",NOT(AND(ISNUMBER(F24),F24>=0)))),"REVIEW COST / PAID",IF(AND(F24<>"",NOT(AND(ISNUMBER(E24),E24>=0))),"ADD AGREED COST",IF(AND(ISNUMBER(J24),J24<0),"OVERPAID",IF(AND(ISNUMBER(J24),J24=0,OR(G24<>"",H24<>"")),"CLEAR PAID INSTALMENT",IF(AND(OR(G24<>"",H24<>""),B24=""),"ADD ITEM / SUPPLIER",IF(AND(OR(G24<>"",H24<>""),NOT(AND(ISNUMBER(E24),E24>=0))),"ADD AGREED COST",IF(AND(OR(G24<>"",H24<>""),NOT(AND(ISNUMBER(G24),G24>=0))),"ADD / CHECK NEXT AMOUNT",IF(AND(OR(G24<>"",H24<>""),NOT(AND(ISNUMBER(H24),H24>=1,H24<=2958465,H24=IF(ISNUMBER(H24),INT(H24),0)))),"ADD / CHECK NEXT DATE",IF(AND(OR(G24<>"",H24<>""),OR(G24<=0,G24>J24)),"REVIEW INSTALMENT",IF(AND(ISNUMBER(J24),J24>0,NOT(OR(G24<>"",H24<>""))),"ENTER NEXT PAYMENT",IF(AND(OR(G24<>"",H24<>""),H24<TODAY()),"OVERDUE ENTERED PAYMENT",""))))))))))) | M24: =IF(AND(COUNTA(A24:I24)>0,NOT(OR(AND(ISNUMBER(C24),C24>=0),AND(ISNUMBER(D24),D24>=0),AND(ISNUMBER(E24),E24>=0)))),1,0) -> 0 | N24: =IF(AND(AND(ISNUMBER(J24),J24>0,OR(L24="",L24="OVERDUE ENTERED PAYMENT"),AND(ISNUMBER(G24),G24>=0),G24>0,AND(ISNUMBER(H24),H24>=1,H24<=2958465,H24=IF(ISNUMBER(H24),INT(H24),0))),H24>=TODAY(),H24<=TODAY()+30),G24,0) -> 0 | O24: =IF(AND(AND(ISNUMBER(J24),J24>0,OR(L24="",L24="OVERDUE ENTERED PAYMENT"),AND(ISNUMBER(G24),G24>=0),G24>0,AND(ISNUMBER(H24),H24>=1,H24<=2958465,H24=IF(ISNUMBER(H24),INT(H24),0))),H24<TODAY()),G24,0) -> 0
A25: Stationery | B25: Invitations | C25: 150 | J25: =IF(AND(ISNUMBER(E25),E25>=0),E25-IF(AND(ISNUMBER(F25),F25>=0),F25,0),"") | K25: =IF(AND(ISNUMBER(E25),E25>=0),E25,IF(AND(ISNUMBER(D25),D25>=0),D25,IF(AND(ISNUMBER(C25),C25>=0),C25,""))) -> 150 | L25: =IF(OR(AND(C25<>"",NOT(AND(ISNUMBER(C25),C25>=0))),AND(D25<>"",NOT(AND(ISNUMBER(D25),D25>=0))),AND(E25<>"",NOT(AND(ISNUMBER(E25),E25>=0))),AND(F25<>"",NOT(AND(ISNUMBER(F25),F25>=0)))),"REVIEW COST / PAID",IF(AND(F25<>"",NOT(AND(ISNUMBER(E25),E25>=0))),"ADD AGREED COST",IF(AND(ISNUMBER(J25),J25<0),"OVERPAID",IF(AND(ISNUMBER(J25),J25=0,OR(G25<>"",H25<>"")),"CLEAR PAID INSTALMENT",IF(AND(OR(G25<>"",H25<>""),B25=""),"ADD ITEM / SUPPLIER",IF(AND(OR(G25<>"",H25<>""),NOT(AND(ISNUMBER(E25),E25>=0))),"ADD AGREED COST",IF(AND(OR(G25<>"",H25<>""),NOT(AND(ISNUMBER(G25),G25>=0))),"ADD / CHECK NEXT AMOUNT",IF(AND(OR(G25<>"",H25<>""),NOT(AND(ISNUMBER(H25),H25>=1,H25<=2958465,H25=IF(ISNUMBER(H25),INT(H25),0)))),"ADD / CHECK NEXT DATE",IF(AND(OR(G25<>"",H25<>""),OR(G25<=0,G25>J25)),"REVIEW INSTALMENT",IF(AND(ISNUMBER(J25),J25>0,NOT(OR(G25<>"",H25<>""))),"ENTER NEXT PAYMENT",IF(AND(OR(G25<>"",H25<>""),H25<TODAY()),"OVERDUE ENTERED PAYMENT",""))))))))))) | M25: =IF(AND(COUNTA(A25:I25)>0,NOT(OR(AND(ISNUMBER(C25),C25>=0),AND(ISNUMBER(D25),D25>=0),AND(ISNUMBER(E25),E25>=0)))),1,0) -> 0 | N25: =IF(AND(AND(ISNUMBER(J25),J25>0,OR(L25="",L25="OVERDUE ENTERED PAYMENT"),AND(ISNUMBER(G25),G25>=0),G25>0,AND(ISNUMBER(H25),H25>=1,H25<=2958465,H25=IF(ISNUMBER(H25),INT(H25),0))),H25>=TODAY(),H25<=TODAY()+30),G25,0) -> 0 | O25: =IF(AND(AND(ISNUMBER(J25),J25>0,OR(L25="",L25="OVERDUE ENTERED PAYMENT"),AND(ISNUMBER(G25),G25>=0),G25>0,AND(ISNUMBER(H25),H25>=1,H25<=2958465,H25=IF(ISNUMBER(H25),INT(H25),0))),H25<TODAY()),G25,0) -> 0
A26: Transport | B26: Transport | C26: 300 | J26: =IF(AND(ISNUMBER(E26),E26>=0),E26-IF(AND(ISNUMBER(F26),F26>=0),F26,0),"") | K26: =IF(AND(ISNUMBER(E26),E26>=0),E26,IF(AND(ISNUMBER(D26),D26>=0),D26,IF(AND(ISNUMBER(C26),C26>=0),C26,""))) -> 300 | L26: =IF(OR(AND(C26<>"",NOT(AND(ISNUMBER(C26),C26>=0))),AND(D26<>"",NOT(AND(ISNUMBER(D26),D26>=0))),AND(E26<>"",NOT(AND(ISNUMBER(E26),E26>=0))),AND(F26<>"",NOT(AND(ISNUMBER(F26),F26>=0)))),"REVIEW COST / PAID",IF(AND(F26<>"",NOT(AND(ISNUMBER(E26),E26>=0))),"ADD AGREED COST",IF(AND(ISNUMBER(J26),J26<0),"OVERPAID",IF(AND(ISNUMBER(J26),J26=0,OR(G26<>"",H26<>"")),"CLEAR PAID INSTALMENT",IF(AND(OR(G26<>"",H26<>""),B26=""),"ADD ITEM / SUPPLIER",IF(AND(OR(G26<>"",H26<>""),NOT(AND(ISNUMBER(E26),E26>=0))),"ADD AGREED COST",IF(AND(OR(G26<>"",H26<>""),NOT(AND(ISNUMBER(G26),G26>=0))),"ADD / CHECK NEXT AMOUNT",IF(AND(OR(G26<>"",H26<>""),NOT(AND(ISNUMBER(H26),H26>=1,H26<=2958465,H26=IF(ISNUMBER(H26),INT(H26),0)))),"ADD / CHECK NEXT DATE",IF(AND(OR(G26<>"",H26<>""),OR(G26<=0,G26>J26)),"REVIEW INSTALMENT",IF(AND(ISNUMBER(J26),J26>0,NOT(OR(G26<>"",H26<>""))),"ENTER NEXT PAYMENT",IF(AND(OR(G26<>"",H26<>""),H26<TODAY()),"OVERDUE ENTERED PAYMENT",""))))))))))) | M26: =IF(AND(COUNTA(A26:I26)>0,NOT(OR(AND(ISNUMBER(C26),C26>=0),AND(ISNUMBER(D26),D26>=0),AND(ISNUMBER(E26),E26>=0)))),1,0) -> 0 | N26: =IF(AND(AND(ISNUMBER(J26),J26>0,OR(L26="",L26="OVERDUE ENTERED PAYMENT"),AND(ISNUMBER(G26),G26>=0),G26>0,AND(ISNUMBER(H26),H26>=1,H26<=2958465,H26=IF(ISNUMBER(H26),INT(H26),0))),H26>=TODAY(),H26<=TODAY()+30),G26,0) -> 0 | O26: =IF(AND(AND(ISNUMBER(J26),J26>0,OR(L26="",L26="OVERDUE ENTERED PAYMENT"),AND(ISNUMBER(G26),G26>=0),G26>0,AND(ISNUMBER(H26),H26>=1,H26<=2958465,H26=IF(ISNUMBER(H26),INT(H26),0))),H26<TODAY()),G26,0) -> 0
A27: Cake | B27: Cake | C27: 300 | J27: =IF(AND(ISNUMBER(E27),E27>=0),E27-IF(AND(ISNUMBER(F27),F27>=0),F27,0),"") | K27: =IF(AND(ISNUMBER(E27),E27>=0),E27,IF(AND(ISNUMBER(D27),D27>=0),D27,IF(AND(ISNUMBER(C27),C27>=0),C27,""))) -> 300 | L27: =IF(OR(AND(C27<>"",NOT(AND(ISNUMBER(C27),C27>=0))),AND(D27<>"",NOT(AND(ISNUMBER(D27),D27>=0))),AND(E27<>"",NOT(AND(ISNUMBER(E27),E27>=0))),AND(F27<>"",NOT(AND(ISNUMBER(F27),F27>=0)))),"REVIEW COST / PAID",IF(AND(F27<>"",NOT(AND(ISNUMBER(E27),E27>=0))),"ADD AGREED COST",IF(AND(ISNUMBER(J27),J27<0),"OVERPAID",IF(AND(ISNUMBER(J27),J27=0,OR(G27<>"",H27<>"")),"CLEAR PAID INSTALMENT",IF(AND(OR(G27<>"",H27<>""),B27=""),"ADD ITEM / SUPPLIER",IF(AND(OR(G27<>"",H27<>""),NOT(AND(ISNUMBER(E27),E27>=0))),"ADD AGREED COST",IF(AND(OR(G27<>"",H27<>""),NOT(AND(ISNUMBER(G27),G27>=0))),"ADD / CHECK NEXT AMOUNT",IF(AND(OR(G27<>"",H27<>""),NOT(AND(ISNUMBER(H27),H27>=1,H27<=2958465,H27=IF(ISNUMBER(H27),INT(H27),0)))),"ADD / CHECK NEXT DATE",IF(AND(OR(G27<>"",H27<>""),OR(G27<=0,G27>J27)),"REVIEW INSTALMENT",IF(AND(ISNUMBER(J27),J27>0,NOT(OR(G27<>"",H27<>""))),"ENTER NEXT PAYMENT",IF(AND(OR(G27<>"",H27<>""),H27<TODAY()),"OVERDUE ENTERED PAYMENT",""))))))))))) | M27: =IF(AND(COUNTA(A27:I27)>0,NOT(OR(AND(ISNUMBER(C27),C27>=0),AND(ISNUMBER(D27),D27>=0),AND(ISNUMBER(E27),E27>=0)))),1,0) -> 0 | N27: =IF(AND(AND(ISNUMBER(J27),J27>0,OR(L27="",L27="OVERDUE ENTERED PAYMENT"),AND(ISNUMBER(G27),G27>=0),G27>0,AND(ISNUMBER(H27),H27>=1,H27<=2958465,H27=IF(ISNUMBER(H27),INT(H27),0))),H27>=TODAY(),H27<=TODAY()+30),G27,0) -> 0 | O27: =IF(AND(AND(ISNUMBER(J27),J27>0,OR(L27="",L27="OVERDUE ENTERED PAYMENT"),AND(ISNUMBER(G27),G27>=0),G27>0,AND(ISNUMBER(H27),H27>=1,H27<=2958465,H27=IF(ISNUMBER(H27),INT(H27),0))),H27<TODAY()),G27,0) -> 0
A28: Rings | B28: Rings | C28: 500 | J28: =IF(AND(ISNUMBER(E28),E28>=0),E28-IF(AND(ISNUMBER(F28),F28>=0),F28,0),"") | K28: =IF(AND(ISNUMBER(E28),E28>=0),E28,IF(AND(ISNUMBER(D28),D28>=0),D28,IF(AND(ISNUMBER(C28),C28>=0),C28,""))) -> 500 | L28: =IF(OR(AND(C28<>"",NOT(AND(ISNUMBER(C28),C28>=0))),AND(D28<>"",NOT(AND(ISNUMBER(D28),D28>=0))),AND(E28<>"",NOT(AND(ISNUMBER(E28),E28>=0))),AND(F28<>"",NOT(AND(ISNUMBER(F28),F28>=0)))),"REVIEW COST / PAID",IF(AND(F28<>"",NOT(AND(ISNUMBER(E28),E28>=0))),"ADD AGREED COST",IF(AND(ISNUMBER(J28),J28<0),"OVERPAID",IF(AND(ISNUMBER(J28),J28=0,OR(G28<>"",H28<>"")),"CLEAR PAID INSTALMENT",IF(AND(OR(G28<>"",H28<>""),B28=""),"ADD ITEM / SUPPLIER",IF(AND(OR(G28<>"",H28<>""),NOT(AND(ISNUMBER(E28),E28>=0))),"ADD AGREED COST",IF(AND(OR(G28<>"",H28<>""),NOT(AND(ISNUMBER(G28),G28>=0))),"ADD / CHECK NEXT AMOUNT",IF(AND(OR(G28<>"",H28<>""),NOT(AND(ISNUMBER(H28),H28>=1,H28<=2958465,H28=IF(ISNUMBER(H28),INT(H28),0)))),"ADD / CHECK NEXT DATE",IF(AND(OR(G28<>"",H28<>""),OR(G28<=0,G28>J28)),"REVIEW INSTALMENT",IF(AND(ISNUMBER(J28),J28>0,NOT(OR(G28<>"",H28<>""))),"ENTER NEXT PAYMENT",IF(AND(OR(G28<>"",H28<>""),H28<TODAY()),"OVERDUE ENTERED PAYMENT",""))))))))))) | M28: =IF(AND(COUNTA(A28:I28)>0,NOT(OR(AND(ISNUMBER(C28),C28>=0),AND(ISNUMBER(D28),D28>=0),AND(ISNUMBER(E28),E28>=0)))),1,0) -> 0 | N28: =IF(AND(AND(ISNUMBER(J28),J28>0,OR(L28="",L28="OVERDUE ENTERED PAYMENT"),AND(ISNUMBER(G28),G28>=0),G28>0,AND(ISNUMBER(H28),H28>=1,H28<=2958465,H28=IF(ISNUMBER(H28),INT(H28),0))),H28>=TODAY(),H28<=TODAY()+30),G28,0) -> 0 | O28: =IF(AND(AND(ISNUMBER(J28),J28>0,OR(L28="",L28="OVERDUE ENTERED PAYMENT"),AND(ISNUMBER(G28),G28>=0),G28>0,AND(ISNUMBER(H28),H28>=1,H28<=2958465,H28=IF(ISNUMBER(H28),INT(H28),0))),H28<TODAY()),G28,0) -> 0
A29: Venue & catering | B29: Corkage | C29: 0 | D29: 0 | E29: 0 | F29: 0 | I29: Included in venue package, row 16. Not a separate charge. | J29: =IF(AND(ISNUMBER(E29),E29>=0),E29-IF(AND(ISNUMBER(F29),F29>=0),F29,0),"") -> 0 | K29: =IF(AND(ISNUMBER(E29),E29>=0),E29,IF(AND(ISNUMBER(D29),D29>=0),D29,IF(AND(ISNUMBER(C29),C29>=0),C29,""))) -> 0 | L29: =IF(OR(AND(C29<>"",NOT(AND(ISNUMBER(C29),C29>=0))),AND(D29<>"",NOT(AND(ISNUMBER(D29),D29>=0))),AND(E29<>"",NOT(AND(ISNUMBER(E29),E29>=0))),AND(F29<>"",NOT(AND(ISNUMBER(F29),F29>=0)))),"REVIEW COST / PAID",IF(AND(F29<>"",NOT(AND(ISNUMBER(E29),E29>=0))),"ADD AGREED COST",IF(AND(ISNUMBER(J29),J29<0),"OVERPAID",IF(AND(ISNUMBER(J29),J29=0,OR(G29<>"",H29<>"")),"CLEAR PAID INSTALMENT",IF(AND(OR(G29<>"",H29<>""),B29=""),"ADD ITEM / SUPPLIER",IF(AND(OR(G29<>"",H29<>""),NOT(AND(ISNUMBER(E29),E29>=0))),"ADD AGREED COST",IF(AND(OR(G29<>"",H29<>""),NOT(AND(ISNUMBER(G29),G29>=0))),"ADD / CHECK NEXT AMOUNT",IF(AND(OR(G29<>"",H29<>""),NOT(AND(ISNUMBER(H29),H29>=1,H29<=2958465,H29=IF(ISNUMBER(H29),INT(H29),0)))),"ADD / CHECK NEXT DATE",IF(AND(OR(G29<>"",H29<>""),OR(G29<=0,G29>J29)),"REVIEW INSTALMENT",IF(AND(ISNUMBER(J29),J29>0,NOT(OR(G29<>"",H29<>""))),"ENTER NEXT PAYMENT",IF(AND(OR(G29<>"",H29<>""),H29<TODAY()),"OVERDUE ENTERED PAYMENT",""))))))))))) | M29: =IF(AND(COUNTA(A29:I29)>0,NOT(OR(AND(ISNUMBER(C29),C29>=0),AND(ISNUMBER(D29),D29>=0),AND(ISNUMBER(E29),E29>=0)))),1,0) -> 0 | N29: =IF(AND(AND(ISNUMBER(J29),J29>0,OR(L29="",L29="OVERDUE ENTERED PAYMENT"),AND(ISNUMBER(G29),G29>=0),G29>0,AND(ISNUMBER(H29),H29>=1,H29<=2958465,H29=IF(ISNUMBER(H29),INT(H29),0))),H29>=TODAY(),H29<=TODAY()+30),G29,0) -> 0 | O29: =IF(AND(AND(ISNUMBER(J29),J29>0,OR(L29="",L29="OVERDUE ENTERED PAYMENT"),AND(ISNUMBER(G29),G29>=0),G29>0,AND(ISNUMBER(H29),H29>=1,H29<=2958465,H29=IF(ISNUMBER(H29),INT(H29),0))),H29<TODAY()),G29,0) -> 0
A30: Hire & logistics | B30: Setup/delivery | C30: 150 | J30: =IF(AND(ISNUMBER(E30),E30>=0),E30-IF(AND(ISNUMBER(F30),F30>=0),F30,0),"") | K30: =IF(AND(ISNUMBER(E30),E30>=0),E30,IF(AND(ISNUMBER(D30),D30>=0),D30,IF(AND(ISNUMBER(C30),C30>=0),C30,""))) -> 150 | L30: =IF(OR(AND(C30<>"",NOT(AND(ISNUMBER(C30),C30>=0))),AND(D30<>"",NOT(AND(ISNUMBER(D30),D30>=0))),AND(E30<>"",NOT(AND(ISNUMBER(E30),E30>=0))),AND(F30<>"",NOT(AND(ISNUMBER(F30),F30>=0)))),"REVIEW COST / PAID",IF(AND(F30<>"",NOT(AND(ISNUMBER(E30),E30>=0))),"ADD AGREED COST",IF(AND(ISNUMBER(J30),J30<0),"OVERPAID",IF(AND(ISNUMBER(J30),J30=0,OR(G30<>"",H30<>"")),"CLEAR PAID INSTALMENT",IF(AND(OR(G30<>"",H30<>""),B30=""),"ADD ITEM / SUPPLIER",IF(AND(OR(G30<>"",H30<>""),NOT(AND(ISNUMBER(E30),E30>=0))),"ADD AGREED COST",IF(AND(OR(G30<>"",H30<>""),NOT(AND(ISNUMBER(G30),G30>=0))),"ADD / CHECK NEXT AMOUNT",IF(AND(OR(G30<>"",H30<>""),NOT(AND(ISNUMBER(H30),H30>=1,H30<=2958465,H30=IF(ISNUMBER(H30),INT(H30),0)))),"ADD / CHECK NEXT DATE",IF(AND(OR(G30<>"",H30<>""),OR(G30<=0,G30>J30)),"REVIEW INSTALMENT",IF(AND(ISNUMBER(J30),J30>0,NOT(OR(G30<>"",H30<>""))),"ENTER NEXT PAYMENT",IF(AND(OR(G30<>"",H30<>""),H30<TODAY()),"OVERDUE ENTERED PAYMENT",""))))))))))) | M30: =IF(AND(COUNTA(A30:I30)>0,NOT(OR(AND(ISNUMBER(C30),C30>=0),AND(ISNUMBER(D30),D30>=0),AND(ISNUMBER(E30),E30>=0)))),1,0) -> 0 | N30: =IF(AND(AND(ISNUMBER(J30),J30>0,OR(L30="",L30="OVERDUE ENTERED PAYMENT"),AND(ISNUMBER(G30),G30>=0),G30>0,AND(ISNUMBER(H30),H30>=1,H30<=2958465,H30=IF(ISNUMBER(H30),INT(H30),0))),H30>=TODAY(),H30<=TODAY()+30),G30,0) -> 0 | O30: =IF(AND(AND(ISNUMBER(J30),J30>0,OR(L30="",L30="OVERDUE ENTERED PAYMENT"),AND(ISNUMBER(G30),G30>=0),G30>0,AND(ISNUMBER(H30),H30>=1,H30<=2958465,H30=IF(ISNUMBER(H30),INT(H30),0))),H30<TODAY()),G30,0) -> 0
A31: Catering | B31: Supplier meals | C31: 120 | J31: =IF(AND(ISNUMBER(E31),E31>=0),E31-IF(AND(ISNUMBER(F31),F31>=0),F31,0),"") | K31: =IF(AND(ISNUMBER(E31),E31>=0),E31,IF(AND(ISNUMBER(D31),D31>=0),D31,IF(AND(ISNUMBER(C31),C31>=0),C31,""))) -> 120 | L31: =IF(OR(AND(C31<>"",NOT(AND(ISNUMBER(C31),C31>=0))),AND(D31<>"",NOT(AND(ISNUMBER(D31),D31>=0))),AND(E31<>"",NOT(AND(ISNUMBER(E31),E31>=0))),AND(F31<>"",NOT(AND(ISNUMBER(F31),F31>=0)))),"REVIEW COST / PAID",IF(AND(F31<>"",NOT(AND(ISNUMBER(E31),E31>=0))),"ADD AGREED COST",IF(AND(ISNUMBER(J31),J31<0),"OVERPAID",IF(AND(ISNUMBER(J31),J31=0,OR(G31<>"",H31<>"")),"CLEAR PAID INSTALMENT",IF(AND(OR(G31<>"",H31<>""),B31=""),"ADD ITEM / SUPPLIER",IF(AND(OR(G31<>"",H31<>""),NOT(AND(ISNUMBER(E31),E31>=0))),"ADD AGREED COST",IF(AND(OR(G31<>"",H31<>""),NOT(AND(ISNUMBER(G31),G31>=0))),"ADD / CHECK NEXT AMOUNT",IF(AND(OR(G31<>"",H31<>""),NOT(AND(ISNUMBER(H31),H31>=1,H31<=2958465,H31=IF(ISNUMBER(H31),INT(H31),0)))),"ADD / CHECK NEXT DATE",IF(AND(OR(G31<>"",H31<>""),OR(G31<=0,G31>J31)),"REVIEW INSTALMENT",IF(AND(ISNUMBER(J31),J31>0,NOT(OR(G31<>"",H31<>""))),"ENTER NEXT PAYMENT",IF(AND(OR(G31<>"",H31<>""),H31<TODAY()),"OVERDUE ENTERED PAYMENT",""))))))))))) | M31: =IF(AND(COUNTA(A31:I31)>0,NOT(OR(AND(ISNUMBER(C31),C31>=0),AND(ISNUMBER(D31),D31>=0),AND(ISNUMBER(E31),E31>=0)))),1,0) -> 0 | N31: =IF(AND(AND(ISNUMBER(J31),J31>0,OR(L31="",L31="OVERDUE ENTERED PAYMENT"),AND(ISNUMBER(G31),G31>=0),G31>0,AND(ISNUMBER(H31),H31>=1,H31<=2958465,H31=IF(ISNUMBER(H31),INT(H31),0))),H31>=TODAY(),H31<=TODAY()+30),G31,0) -> 0 | O31: =IF(AND(AND(ISNUMBER(J31),J31>0,OR(L31="",L31="OVERDUE ENTERED PAYMENT"),AND(ISNUMBER(G31),G31>=0),G31>0,AND(ISNUMBER(H31),H31>=1,H31<=2958465,H31=IF(ISNUMBER(H31),INT(H31),0))),H31<TODAY()),G31,0) -> 0
A32: Extras | B32: Overtime | C32: 200 | J32: =IF(AND(ISNUMBER(E32),E32>=0),E32-IF(AND(ISNUMBER(F32),F32>=0),F32,0),"") | K32: =IF(AND(ISNUMBER(E32),E32>=0),E32,IF(AND(ISNUMBER(D32),D32>=0),D32,IF(AND(ISNUMBER(C32),C32>=0),C32,""))) -> 200 | L32: =IF(OR(AND(C32<>"",NOT(AND(ISNUMBER(C32),C32>=0))),AND(D32<>"",NOT(AND(ISNUMBER(D32),D32>=0))),AND(E32<>"",NOT(AND(ISNUMBER(E32),E32>=0))),AND(F32<>"",NOT(AND(ISNUMBER(F32),F32>=0)))),"REVIEW COST / PAID",IF(AND(F32<>"",NOT(AND(ISNUMBER(E32),E32>=0))),"ADD AGREED COST",IF(AND(ISNUMBER(J32),J32<0),"OVERPAID",IF(AND(ISNUMBER(J32),J32=0,OR(G32<>"",H32<>"")),"CLEAR PAID INSTALMENT",IF(AND(OR(G32<>"",H32<>""),B32=""),"ADD ITEM / SUPPLIER",IF(AND(OR(G32<>"",H32<>""),NOT(AND(ISNUMBER(E32),E32>=0))),"ADD AGREED COST",IF(AND(OR(G32<>"",H32<>""),NOT(AND(ISNUMBER(G32),G32>=0))),"ADD / CHECK NEXT AMOUNT",IF(AND(OR(G32<>"",H32<>""),NOT(AND(ISNUMBER(H32),H32>=1,H32<=2958465,H32=IF(ISNUMBER(H32),INT(H32),0)))),"ADD / CHECK NEXT DATE",IF(AND(OR(G32<>"",H32<>""),OR(G32<=0,G32>J32)),"REVIEW INSTALMENT",IF(AND(ISNUMBER(J32),J32>0,NOT(OR(G32<>"",H32<>""))),"ENTER NEXT PAYMENT",IF(AND(OR(G32<>"",H32<>""),H32<TODAY()),"OVERDUE ENTERED PAYMENT",""))))))))))) | M32: =IF(AND(COUNTA(A32:I32)>0,NOT(OR(AND(ISNUMBER(C32),C32>=0),AND(ISNUMBER(D32),D32>=0),AND(ISNUMBER(E32),E32>=0)))),1,0) -> 0 | N32: =IF(AND(AND(ISNUMBER(J32),J32>0,OR(L32="",L32="OVERDUE ENTERED PAYMENT"),AND(ISNUMBER(G32),G32>=0),G32>0,AND(ISNUMBER(H32),H32>=1,H32<=2958465,H32=IF(ISNUMBER(H32),INT(H32),0))),H32>=TODAY(),H32<=TODAY()+30),G32,0) -> 0 | O32: =IF(AND(AND(ISNUMBER(J32),J32>0,OR(L32="",L32="OVERDUE ENTERED PAYMENT"),AND(ISNUMBER(G32),G32>=0),G32>0,AND(ISNUMBER(H32),H32>=1,H32<=2958465,H32=IF(ISNUMBER(H32),INT(H32),0))),H32<TODAY()),G32,0) -> 0
A33: Catering | B33: Evening food | C33: 0 | D33: 0 | E33: 0 | F33: 0 | I33: Included in venue package, row 16. Not a separate charge. | J33: =IF(AND(ISNUMBER(E33),E33>=0),E33-IF(AND(ISNUMBER(F33),F33>=0),F33,0),"") -> 0 | K33: =IF(AND(ISNUMBER(E33),E33>=0),E33,IF(AND(ISNUMBER(D33),D33>=0),D33,IF(AND(ISNUMBER(C33),C33>=0),C33,""))) -> 0 | L33: =IF(OR(AND(C33<>"",NOT(AND(ISNUMBER(C33),C33>=0))),AND(D33<>"",NOT(AND(ISNUMBER(D33),D33>=0))),AND(E33<>"",NOT(AND(ISNUMBER(E33),E33>=0))),AND(F33<>"",NOT(AND(ISNUMBER(F33),F33>=0)))),"REVIEW COST / PAID",IF(AND(F33<>"",NOT(AND(ISNUMBER(E33),E33>=0))),"ADD AGREED COST",IF(AND(ISNUMBER(J33),J33<0),"OVERPAID",IF(AND(ISNUMBER(J33),J33=0,OR(G33<>"",H33<>"")),"CLEAR PAID INSTALMENT",IF(AND(OR(G33<>"",H33<>""),B33=""),"ADD ITEM / SUPPLIER",IF(AND(OR(G33<>"",H33<>""),NOT(AND(ISNUMBER(E33),E33>=0))),"ADD AGREED COST",IF(AND(OR(G33<>"",H33<>""),NOT(AND(ISNUMBER(G33),G33>=0))),"ADD / CHECK NEXT AMOUNT",IF(AND(OR(G33<>"",H33<>""),NOT(AND(ISNUMBER(H33),H33>=1,H33<=2958465,H33=IF(ISNUMBER(H33),INT(H33),0)))),"ADD / CHECK NEXT DATE",IF(AND(OR(G33<>"",H33<>""),OR(G33<=0,G33>J33)),"REVIEW INSTALMENT",IF(AND(ISNUMBER(J33),J33>0,NOT(OR(G33<>"",H33<>""))),"ENTER NEXT PAYMENT",IF(AND(OR(G33<>"",H33<>""),H33<TODAY()),"OVERDUE ENTERED PAYMENT",""))))))))))) | M33: =IF(AND(COUNTA(A33:I33)>0,NOT(OR(AND(ISNUMBER(C33),C33>=0),AND(ISNUMBER(D33),D33>=0),AND(ISNUMBER(E33),E33>=0)))),1,0) -> 0 | N33: =IF(AND(AND(ISNUMBER(J33),J33>0,OR(L33="",L33="OVERDUE ENTERED PAYMENT"),AND(ISNUMBER(G33),G33>=0),G33>0,AND(ISNUMBER(H33),H33>=1,H33<=2958465,H33=IF(ISNUMBER(H33),INT(H33),0))),H33>=TODAY(),H33<=TODAY()+30),G33,0) -> 0 | O33: =IF(AND(AND(ISNUMBER(J33),J33>0,OR(L33="",L33="OVERDUE ENTERED PAYMENT"),AND(ISNUMBER(G33),G33>=0),G33>0,AND(ISNUMBER(H33),H33>=1,H33<=2958465,H33=IF(ISNUMBER(H33),INT(H33),0))),H33<TODAY()),G33,0) -> 0
A34: Extras | B34: Insurance / other | C34: 100 | J34: =IF(AND(ISNUMBER(E34),E34>=0),E34-IF(AND(ISNUMBER(F34),F34>=0),F34,0),"") | K34: =IF(AND(ISNUMBER(E34),E34>=0),E34,IF(AND(ISNUMBER(D34),D34>=0),D34,IF(AND(ISNUMBER(C34),C34>=0),C34,""))) -> 100 | L34: =IF(OR(AND(C34<>"",NOT(AND(ISNUMBER(C34),C34>=0))),AND(D34<>"",NOT(AND(ISNUMBER(D34),D34>=0))),AND(E34<>"",NOT(AND(ISNUMBER(E34),E34>=0))),AND(F34<>"",NOT(AND(ISNUMBER(F34),F34>=0)))),"REVIEW COST / PAID",IF(AND(F34<>"",NOT(AND(ISNUMBER(E34),E34>=0))),"ADD AGREED COST",IF(AND(ISNUMBER(J34),J34<0),"OVERPAID",IF(AND(ISNUMBER(J34),J34=0,OR(G34<>"",H34<>"")),"CLEAR PAID INSTALMENT",IF(AND(OR(G34<>"",H34<>""),B34=""),"ADD ITEM / SUPPLIER",IF(AND(OR(G34<>"",H34<>""),NOT(AND(ISNUMBER(E34),E34>=0))),"ADD AGREED COST",IF(AND(OR(G34<>"",H34<>""),NOT(AND(ISNUMBER(G34),G34>=0))),"ADD / CHECK NEXT AMOUNT",IF(AND(OR(G34<>"",H34<>""),NOT(AND(ISNUMBER(H34),H34>=1,H34<=2958465,H34=IF(ISNUMBER(H34),INT(H34),0)))),"ADD / CHECK NEXT DATE",IF(AND(OR(G34<>"",H34<>""),OR(G34<=0,G34>J34)),"REVIEW INSTALMENT",IF(AND(ISNUMBER(J34),J34>0,NOT(OR(G34<>"",H34<>""))),"ENTER NEXT PAYMENT",IF(AND(OR(G34<>"",H34<>""),H34<TODAY()),"OVERDUE ENTERED PAYMENT",""))))))))))) | M34: =IF(AND(COUNTA(A34:I34)>0,NOT(OR(AND(ISNUMBER(C34),C34>=0),AND(ISNUMBER(D34),D34>=0),AND(ISNUMBER(E34),E34>=0)))),1,0) -> 0 | N34: =IF(AND(AND(ISNUMBER(J34),J34>0,OR(L34="",L34="OVERDUE ENTERED PAYMENT"),AND(ISNUMBER(G34),G34>=0),G34>0,AND(ISNUMBER(H34),H34>=1,H34<=2958465,H34=IF(ISNUMBER(H34),INT(H34),0))),H34>=TODAY(),H34<=TODAY()+30),G34,0) -> 0 | O34: =IF(AND(AND(ISNUMBER(J34),J34>0,OR(L34="",L34="OVERDUE ENTERED PAYMENT"),AND(ISNUMBER(G34),G34>=0),G34>0,AND(ISNUMBER(H34),H34>=1,H34<=2958465,H34=IF(ISNUMBER(H34),INT(H34),0))),H34<TODAY()),G34,0) -> 0
A35: Content creation | B35: Content creator | I35: Not priced yet — decide whether needed or included elsewhere. | J35: =IF(AND(ISNUMBER(E35),E35>=0),E35-IF(AND(ISNUMBER(F35),F35>=0),F35,0),"") | K35: =IF(AND(ISNUMBER(E35),E35>=0),E35,IF(AND(ISNUMBER(D35),D35>=0),D35,IF(AND(ISNUMBER(C35),C35>=0),C35,""))) | L35: =IF(OR(AND(C35<>"",NOT(AND(ISNUMBER(C35),C35>=0))),AND(D35<>"",NOT(AND(ISNUMBER(D35),D35>=0))),AND(E35<>"",NOT(AND(ISNUMBER(E35),E35>=0))),AND(F35<>"",NOT(AND(ISNUMBER(F35),F35>=0)))),"REVIEW COST / PAID",IF(AND(F35<>"",NOT(AND(ISNUMBER(E35),E35>=0))),"ADD AGREED COST",IF(AND(ISNUMBER(J35),J35<0),"OVERPAID",IF(AND(ISNUMBER(J35),J35=0,OR(G35<>"",H35<>"")),"CLEAR PAID INSTALMENT",IF(AND(OR(G35<>"",H35<>""),B35=""),"ADD ITEM / SUPPLIER",IF(AND(OR(G35<>"",H35<>""),NOT(AND(ISNUMBER(E35),E35>=0))),"ADD AGREED COST",IF(AND(OR(G35<>"",H35<>""),NOT(AND(ISNUMBER(G35),G35>=0))),"ADD / CHECK NEXT AMOUNT",IF(AND(OR(G35<>"",H35<>""),NOT(AND(ISNUMBER(H35),H35>=1,H35<=2958465,H35=IF(ISNUMBER(H35),INT(H35),0)))),"ADD / CHECK NEXT DATE",IF(AND(OR(G35<>"",H35<>""),OR(G35<=0,G35>J35)),"REVIEW INSTALMENT",IF(AND(ISNUMBER(J35),J35>0,NOT(OR(G35<>"",H35<>""))),"ENTER NEXT PAYMENT",IF(AND(OR(G35<>"",H35<>""),H35<TODAY()),"OVERDUE ENTERED PAYMENT",""))))))))))) | M35: =IF(AND(COUNTA(A35:I35)>0,NOT(OR(AND(ISNUMBER(C35),C35>=0),AND(ISNUMBER(D35),D35>=0),AND(ISNUMBER(E35),E35>=0)))),1,0) -> 1 | N35: =IF(AND(AND(ISNUMBER(J35),J35>0,OR(L35="",L35="OVERDUE ENTERED PAYMENT"),AND(ISNUMBER(G35),G35>=0),G35>0,AND(ISNUMBER(H35),H35>=1,H35<=2958465,H35=IF(ISNUMBER(H35),INT(H35),0))),H35>=TODAY(),H35<=TODAY()+30),G35,0) -> 0 | O35: =IF(AND(AND(ISNUMBER(J35),J35>0,OR(L35="",L35="OVERDUE ENTERED PAYMENT"),AND(ISNUMBER(G35),G35>=0),G35>0,AND(ISNUMBER(H35),H35>=1,H35<=2958465,H35=IF(ISNUMBER(H35),INT(H35),0))),H35<TODAY()),G35,0) -> 0
A36: Stationery | B36: Postage | I36: Not priced yet — decide whether needed or included elsewhere. | J36: =IF(AND(ISNUMBER(E36),E36>=0),E36-IF(AND(ISNUMBER(F36),F36>=0),F36,0),"") | K36: =IF(AND(ISNUMBER(E36),E36>=0),E36,IF(AND(ISNUMBER(D36),D36>=0),D36,IF(AND(ISNUMBER(C36),C36>=0),C36,""))) | L36: =IF(OR(AND(C36<>"",NOT(AND(ISNUMBER(C36),C36>=0))),AND(D36<>"",NOT(AND(ISNUMBER(D36),D36>=0))),AND(E36<>"",NOT(AND(ISNUMBER(E36),E36>=0))),AND(F36<>"",NOT(AND(ISNUMBER(F36),F36>=0)))),"REVIEW COST / PAID",IF(AND(F36<>"",NOT(AND(ISNUMBER(E36),E36>=0))),"ADD AGREED COST",IF(AND(ISNUMBER(J36),J36<0),"OVERPAID",IF(AND(ISNUMBER(J36),J36=0,OR(G36<>"",H36<>"")),"CLEAR PAID INSTALMENT",IF(AND(OR(G36<>"",H36<>""),B36=""),"ADD ITEM / SUPPLIER",IF(AND(OR(G36<>"",H36<>""),NOT(AND(ISNUMBER(E36),E36>=0))),"ADD AGREED COST",IF(AND(OR(G36<>"",H36<>""),NOT(AND(ISNUMBER(G36),G36>=0))),"ADD / CHECK NEXT AMOUNT",IF(AND(OR(G36<>"",H36<>""),NOT(AND(ISNUMBER(H36),H36>=1,H36<=2958465,H36=IF(ISNUMBER(H36),INT(H36),0)))),"ADD / CHECK NEXT DATE",IF(AND(OR(G36<>"",H36<>""),OR(G36<=0,G36>J36)),"REVIEW INSTALMENT",IF(AND(ISNUMBER(J36),J36>0,NOT(OR(G36<>"",H36<>""))),"ENTER NEXT PAYMENT",IF(AND(OR(G36<>"",H36<>""),H36<TODAY()),"OVERDUE ENTERED PAYMENT",""))))))))))) | M36: =IF(AND(COUNTA(A36:I36)>0,NOT(OR(AND(ISNUMBER(C36),C36>=0),AND(ISNUMBER(D36),D36>=0),AND(ISNUMBER(E36),E36>=0)))),1,0) -> 1 | N36: =IF(AND(AND(ISNUMBER(J36),J36>0,OR(L36="",L36="OVERDUE ENTERED PAYMENT"),AND(ISNUMBER(G36),G36>=0),G36>0,AND(ISNUMBER(H36),H36>=1,H36<=2958465,H36=IF(ISNUMBER(H36),INT(H36),0))),H36>=TODAY(),H36<=TODAY()+30),G36,0) -> 0 | O36: =IF(AND(AND(ISNUMBER(J36),J36>0,OR(L36="",L36="OVERDUE ENTERED PAYMENT"),AND(ISNUMBER(G36),G36>=0),G36>0,AND(ISNUMBER(H36),H36>=1,H36<=2958465,H36=IF(ISNUMBER(H36),INT(H36),0))),H36<TODAY()),G36,0) -> 0
A37: Accommodation | B37: Accommodation | I37: Not priced yet — decide whether needed or included elsewhere. | J37: =IF(AND(ISNUMBER(E37),E37>=0),E37-IF(AND(ISNUMBER(F37),F37>=0),F37,0),"") | K37: =IF(AND(ISNUMBER(E37),E37>=0),E37,IF(AND(ISNUMBER(D37),D37>=0),D37,IF(AND(ISNUMBER(C37),C37>=0),C37,""))) | L37: =IF(OR(AND(C37<>"",NOT(AND(ISNUMBER(C37),C37>=0))),AND(D37<>"",NOT(AND(ISNUMBER(D37),D37>=0))),AND(E37<>"",NOT(AND(ISNUMBER(E37),E37>=0))),AND(F37<>"",NOT(AND(ISNUMBER(F37),F37>=0)))),"REVIEW COST / PAID",IF(AND(F37<>"",NOT(AND(ISNUMBER(E37),E37>=0))),"ADD AGREED COST",IF(AND(ISNUMBER(J37),J37<0),"OVERPAID",IF(AND(ISNUMBER(J37),J37=0,OR(G37<>"",H37<>"")),"CLEAR PAID INSTALMENT",IF(AND(OR(G37<>"",H37<>""),B37=""),"ADD ITEM / SUPPLIER",IF(AND(OR(G37<>"",H37<>""),NOT(AND(ISNUMBER(E37),E37>=0))),"ADD AGREED COST",IF(AND(OR(G37<>"",H37<>""),NOT(AND(ISNUMBER(G37),G37>=0))),"ADD / CHECK NEXT AMOUNT",IF(AND(OR(G37<>"",H37<>""),NOT(AND(ISNUMBER(H37),H37>=1,H37<=2958465,H37=IF(ISNUMBER(H37),INT(H37),0)))),"ADD / CHECK NEXT DATE",IF(AND(OR(G37<>"",H37<>""),OR(G37<=0,G37>J37)),"REVIEW INSTALMENT",IF(AND(ISNUMBER(J37),J37>0,NOT(OR(G37<>"",H37<>""))),"ENTER NEXT PAYMENT",IF(AND(OR(G37<>"",H37<>""),H37<TODAY()),"OVERDUE ENTERED PAYMENT",""))))))))))) | M37: =IF(AND(COUNTA(A37:I37)>0,NOT(OR(AND(ISNUMBER(C37),C37>=0),AND(ISNUMBER(D37),D37>=0),AND(ISNUMBER(E37),E37>=0)))),1,0) -> 1 | N37: =IF(AND(AND(ISNUMBER(J37),J37>0,OR(L37="",L37="OVERDUE ENTERED PAYMENT"),AND(ISNUMBER(G37),G37>=0),G37>0,AND(ISNUMBER(H37),H37>=1,H37<=2958465,H37=IF(ISNUMBER(H37),INT(H37),0))),H37>=TODAY(),H37<=TODAY()+30),G37,0) -> 0 | O37: =IF(AND(AND(ISNUMBER(J37),J37>0,OR(L37="",L37="OVERDUE ENTERED PAYMENT"),AND(ISNUMBER(G37),G37>=0),G37>0,AND(ISNUMBER(H37),H37>=1,H37<=2958465,H37=IF(ISNUMBER(H37),INT(H37),0))),H37<TODAY()),G37,0) -> 0
J38: =IF(AND(ISNUMBER(E38),E38>=0),E38-IF(AND(ISNUMBER(F38),F38>=0),F38,0),"") | K38: =IF(AND(ISNUMBER(E38),E38>=0),E38,IF(AND(ISNUMBER(D38),D38>=0),D38,IF(AND(ISNUMBER(C38),C38>=0),C38,""))) | L38: =IF(OR(AND(C38<>"",NOT(AND(ISNUMBER(C38),C38>=0))),AND(D38<>"",NOT(AND(ISNUMBER(D38),D38>=0))),AND(E38<>"",NOT(AND(ISNUMBER(E38),E38>=0))),AND(F38<>"",NOT(AND(ISNUMBER(F38),F38>=0)))),"REVIEW COST / PAID",IF(AND(F38<>"",NOT(AND(ISNUMBER(E38),E38>=0))),"ADD AGREED COST",IF(AND(ISNUMBER(J38),J38<0),"OVERPAID",IF(AND(ISNUMBER(J38),J38=0,OR(G38<>"",H38<>"")),"CLEAR PAID INSTALMENT",IF(AND(OR(G38<>"",H38<>""),B38=""),"ADD ITEM / SUPPLIER",IF(AND(OR(G38<>"",H38<>""),NOT(AND(ISNUMBER(E38),E38>=0))),"ADD AGREED COST",IF(AND(OR(G38<>"",H38<>""),NOT(AND(ISNUMBER(G38),G38>=0))),"ADD / CHECK NEXT AMOUNT",IF(AND(OR(G38<>"",H38<>""),NOT(AND(ISNUMBER(H38),H38>=1,H38<=2958465,H38=IF(ISNUMBER(H38),INT(H38),0)))),"ADD / CHECK NEXT DATE",IF(AND(OR(G38<>"",H38<>""),OR(G38<=0,G38>J38)),"REVIEW INSTALMENT",IF(AND(ISNUMBER(J38),J38>0,NOT(OR(G38<>"",H38<>""))),"ENTER NEXT PAYMENT",IF(AND(OR(G38<>"",H38<>""),H38<TODAY()),"OVERDUE ENTERED PAYMENT",""))))))))))) | M38: =IF(AND(COUNTA(A38:I38)>0,NOT(OR(AND(ISNUMBER(C38),C38>=0),AND(ISNUMBER(D38),D38>=0),AND(ISNUMBER(E38),E38>=0)))),1,0) -> 0 | N38: =IF(AND(AND(ISNUMBER(J38),J38>0,OR(L38="",L38="OVERDUE ENTERED PAYMENT"),AND(ISNUMBER(G38),G38>=0),G38>0,AND(ISNUMBER(H38),H38>=1,H38<=2958465,H38=IF(ISNUMBER(H38),INT(H38),0))),H38>=TODAY(),H38<=TODAY()+30),G38,0) -> 0 | O38: =IF(AND(AND(ISNUMBER(J38),J38>0,OR(L38="",L38="OVERDUE ENTERED PAYMENT"),AND(ISNUMBER(G38),G38>=0),G38>0,AND(ISNUMBER(H38),H38>=1,H38<=2958465,H38=IF(ISNUMBER(H38),INT(H38),0))),H38<TODAY()),G38,0) -> 0
J39: =IF(AND(ISNUMBER(E39),E39>=0),E39-IF(AND(ISNUMBER(F39),F39>=0),F39,0),"") | K39: =IF(AND(ISNUMBER(E39),E39>=0),E39,IF(AND(ISNUMBER(D39),D39>=0),D39,IF(AND(ISNUMBER(C39),C39>=0),C39,""))) | L39: =IF(OR(AND(C39<>"",NOT(AND(ISNUMBER(C39),C39>=0))),AND(D39<>"",NOT(AND(ISNUMBER(D39),D39>=0))),AND(E39<>"",NOT(AND(ISNUMBER(E39),E39>=0))),AND(F39<>"",NOT(AND(ISNUMBER(F39),F39>=0)))),"REVIEW COST / PAID",IF(AND(F39<>"",NOT(AND(ISNUMBER(E39),E39>=0))),"ADD AGREED COST",IF(AND(ISNUMBER(J39),J39<0),"OVERPAID",IF(AND(ISNUMBER(J39),J39=0,OR(G39<>"",H39<>"")),"CLEAR PAID INSTALMENT",IF(AND(OR(G39<>"",H39<>""),B39=""),"ADD ITEM / SUPPLIER",IF(AND(OR(G39<>"",H39<>""),NOT(AND(ISNUMBER(E39),E39>=0))),"ADD AGREED COST",IF(AND(OR(G39<>"",H39<>""),NOT(AND(ISNUMBER(G39),G39>=0))),"ADD / CHECK NEXT AMOUNT",IF(AND(OR(G39<>"",H39<>""),NOT(AND(ISNUMBER(H39),H39>=1,H39<=2958465,H39=IF(ISNUMBER(H39),INT(H39),0)))),"ADD / CHECK NEXT DATE",IF(AND(OR(G39<>"",H39<>""),OR(G39<=0,G39>J39)),"REVIEW INSTALMENT",IF(AND(ISNUMBER(J39),J39>0,NOT(OR(G39<>"",H39<>""))),"ENTER NEXT PAYMENT",IF(AND(OR(G39<>"",H39<>""),H39<TODAY()),"OVERDUE ENTERED PAYMENT",""))))))))))) | M39: =IF(AND(COUNTA(A39:I39)>0,NOT(OR(AND(ISNUMBER(C39),C39>=0),AND(ISNUMBER(D39),D39>=0),AND(ISNUMBER(E39),E39>=0)))),1,0) -> 0 | N39: =IF(AND(AND(ISNUMBER(J39),J39>0,OR(L39="",L39="OVERDUE ENTERED PAYMENT"),AND(ISNUMBER(G39),G39>=0),G39>0,AND(ISNUMBER(H39),H39>=1,H39<=2958465,H39=IF(ISNUMBER(H39),INT(H39),0))),H39>=TODAY(),H39<=TODAY()+30),G39,0) -> 0 | O39: =IF(AND(AND(ISNUMBER(J39),J39>0,OR(L39="",L39="OVERDUE ENTERED PAYMENT"),AND(ISNUMBER(G39),G39>=0),G39>0,AND(ISNUMBER(H39),H39>=1,H39<=2958465,H39=IF(ISNUMBER(H39),INT(H39),0))),H39<TODAY()),G39,0) -> 0
J40: =IF(AND(ISNUMBER(E40),E40>=0),E40-IF(AND(ISNUMBER(F40),F40>=0),F40,0),"") | K40: =IF(AND(ISNUMBER(E40),E40>=0),E40,IF(AND(ISNUMBER(D40),D40>=0),D40,IF(AND(ISNUMBER(C40),C40>=0),C40,""))) | L40: =IF(OR(AND(C40<>"",NOT(AND(ISNUMBER(C40),C40>=0))),AND(D40<>"",NOT(AND(ISNUMBER(D40),D40>=0))),AND(E40<>"",NOT(AND(ISNUMBER(E40),E40>=0))),AND(F40<>"",NOT(AND(ISNUMBER(F40),F40>=0)))),"REVIEW COST / PAID",IF(AND(F40<>"",NOT(AND(ISNUMBER(E40),E40>=0))),"ADD AGREED COST",IF(AND(ISNUMBER(J40),J40<0),"OVERPAID",IF(AND(ISNUMBER(J40),J40=0,OR(G40<>"",H40<>"")),"CLEAR PAID INSTALMENT",IF(AND(OR(G40<>"",H40<>""),B40=""),"ADD ITEM / SUPPLIER",IF(AND(OR(G40<>"",H40<>""),NOT(AND(ISNUMBER(E40),E40>=0))),"ADD AGREED COST",IF(AND(OR(G40<>"",H40<>""),NOT(AND(ISNUMBER(G40),G40>=0))),"ADD / CHECK NEXT AMOUNT",IF(AND(OR(G40<>"",H40<>""),NOT(AND(ISNUMBER(H40),H40>=1,H40<=2958465,H40=IF(ISNUMBER(H40),INT(H40),0)))),"ADD / CHECK NEXT DATE",IF(AND(OR(G40<>"",H40<>""),OR(G40<=0,G40>J40)),"REVIEW INSTALMENT",IF(AND(ISNUMBER(J40),J40>0,NOT(OR(G40<>"",H40<>""))),"ENTER NEXT PAYMENT",IF(AND(OR(G40<>"",H40<>""),H40<TODAY()),"OVERDUE ENTERED PAYMENT",""))))))))))) | M40: =IF(AND(COUNTA(A40:I40)>0,NOT(OR(AND(ISNUMBER(C40),C40>=0),AND(ISNUMBER(D40),D40>=0),AND(ISNUMBER(E40),E40>=0)))),1,0) -> 0 | N40: =IF(AND(AND(ISNUMBER(J40),J40>0,OR(L40="",L40="OVERDUE ENTERED PAYMENT"),AND(ISNUMBER(G40),G40>=0),G40>0,AND(ISNUMBER(H40),H40>=1,H40<=2958465,H40=IF(ISNUMBER(H40),INT(H40),0))),H40>=TODAY(),H40<=TODAY()+30),G40,0) -> 0 | O40: =IF(AND(AND(ISNUMBER(J40),J40>0,OR(L40="",L40="OVERDUE ENTERED PAYMENT"),AND(ISNUMBER(G40),G40>=0),G40>0,AND(ISNUMBER(H40),H40>=1,H40<=2958465,H40=IF(ISNUMBER(H40),INT(H40),0))),H40<TODAY()),G40,0) -> 0
...

Sheet Summary
A1: YOUR BUDGET AT A GLANCE • GBP
A2: Your total budget | D2: Paid so far
B3: =IF('Budget tracker'!C5="","",'Budget tracker'!C5) -> 20000 | E3: =SUM('Budget tracker'!F16:F215) -> 4050
A4: Expected total, including contingency | D4: Still to pay on booked suppliers
B5: =SUM('Budget tracker'!K16:K215)+'Budget tracker'!C7 -> 18420 | E5: =SUMIF('Budget tracker'!J16:J215,">0",'Budget tracker'!J16:J215) -> 7400
A6: Budget left to allocate | D6: Checks to review
B7: =IF(B3="","",B3-B5) -> 1580 | E7: =COUNTIF('Budget tracker'!L16:L215,"?*") -> 0
A9: Costs you haven’t entered yet aren’t included. Listed items still needing a price: | F9: =SUM('Budget tracker'!M16:M215) -> 3
A10: Budget versus expected total • same scale, including contingency • overspend remains visible above
A11: =IF(B3="","Enter your total budget to compare",IF(B3=0,"Zero budget: compare numeric totals above",IF(B5>B3,REPT("━",ROUND(B3/MAX(B3,B5,1)*40,0))&"│"&REPT("━",40-ROUND(B3/MAX(B3,B5,1)*40,0)),REPT("━",ROUND(B5/MAX(B3,B5,1)*40,0))&REPT("·",40-ROUND(B5/MAX(B3,B5,1)*40,0))&"│"))) -> ━━━━━━━━━━━━━━━━━━━━━━━━━━━━━━━━━━━━━···│
A12: ="━ Expected total · Budget left │ Your total budget" -> ━ Expected total · Budget left │ Your total budget
A13: Entered payments due in next 30 days | D13: Overdue entered payments — separate
B14: =SUM('Budget tracker'!N16:N215) -> 0 | E14: =SUM('Budget tracker'!O16:O215) -> 0
A15: Only the next entered instalment per supplier. Today through today + 30 calendar days inclusive; overdue is before today. No later instalments or inferred balances. Review Check messages; incomplete or contradictory entries are not totalled.
A17: Secondary detail • commitment-only headroom is not a spending allowance
A18: Planned allowances | B18: =SUM('Budget tracker'!C16:C215) -> 17070
A19: Committed agreed spending | B19: =SUM('Budget tracker'!E16:E215) -> 11450 | D19: Back to Budget tracker →
A20: Forecast before contingency | B20: =SUM('Budget tracker'!K16:K215) -> 16920
A21: Unallocated contingency | B21: ='Budget tracker'!C7 -> 1500 | D21: Help / compatibility →
A22: Commitment-only headroom | B22: =IF(B3="","",B3-B19) -> 8550
A23: Overpaid — investigate | B23: =-SUMIF('Budget tracker'!J16:J215,"<0",'Budget tracker'!J16:J215) -> 0
A25: Created by Big Day Productions • Instructions & a fresh copy:
A26: https://bigdayproductions.co.uk/blog/free-wedding-budget-spreadsheet-uk
A28: Upcoming payments you’ve entered
A29: One line per tracker row; filter Next amount to hide blanks. Missing details stay blank; Check explains what to review.
A30: Item / supplier | B30: Next amount | C30: Next date | D30: Check | E30: Due in 30 days | F30: Overdue
A31: =IF(OR('Budget tracker'!G16<>"",'Budget tracker'!H16<>"",'Budget tracker'!L16<>""),IF('Budget tracker'!B16="","",'Budget tracker'!B16),"") -> Venue package | B31: =IF(OR('Budget tracker'!G16<>"",'Budget tracker'!H16<>"",'Budget tracker'!L16<>""),IF('Budget tracker'!G16="","",'Budget tracker'!G16),"") -> 3000 | C31: =IF(OR('Budget tracker'!G16<>"",'Budget tracker'!H16<>"",'Budget tracker'!L16<>""),IF('Budget tracker'!H16="","",'Budget tracker'!H16),"") -> 46508 | D31: =IF(OR('Budget tracker'!G16<>"",'Budget tracker'!H16<>"",'Budget tracker'!L16<>""),IF('Budget tracker'!L16="","",'Budget tracker'!L16),"") | E31: =IF(OR('Budget tracker'!G16<>"",'Budget tracker'!H16<>"",'Budget tracker'!L16<>""),IF('Budget tracker'!N16="","",'Budget tracker'!N16),"") -> 0 | F31: =IF(OR('Budget tracker'!G16<>"",'Budget tracker'!H16<>"",'Budget tracker'!L16<>""),IF('Budget tracker'!O16="","",'Budget tracker'!O16),"") -> 0
A32: =IF(OR('Budget tracker'!G17<>"",'Budget tracker'!H17<>"",'Budget tracker'!L17<>""),IF('Budget tracker'!B17="","",'Budget tracker'!B17),"") | B32: =IF(OR('Budget tracker'!G17<>"",'Budget tracker'!H17<>"",'Budget tracker'!L17<>""),IF('Budget tracker'!G17="","",'Budget tracker'!G17),"") | C32: =IF(OR('Budget tracker'!G17<>"",'Budget tracker'!H17<>"",'Budget tracker'!L17<>""),IF('Budget tracker'!H17="","",'Budget tracker'!H17),"") | D32: =IF(OR('Budget tracker'!G17<>"",'Budget tracker'!H17<>"",'Budget tracker'!L17<>""),IF('Budget tracker'!L17="","",'Budget tracker'!L17),"") | E32: =IF(OR('Budget tracker'!G17<>"",'Budget tracker'!H17<>"",'Budget tracker'!L17<>""),IF('Budget tracker'!N17="","",'Budget tracker'!N17),"") | F32: =IF(OR('Budget tracker'!G17<>"",'Budget tracker'!H17<>"",'Budget tracker'!L17<>""),IF('Budget tracker'!O17="","",'Budget tracker'!O17),"")
A33: =IF(OR('Budget tracker'!G18<>"",'Budget tracker'!H18<>"",'Budget tracker'!L18<>""),IF('Budget tracker'!B18="","",'Budget tracker'!B18),"") -> Photography | B33: =IF(OR('Budget tracker'!G18<>"",'Budget tracker'!H18<>"",'Budget tracker'!L18<>""),IF('Budget tracker'!G18="","",'Budget tracker'!G18),"") -> 700 | C33: =IF(OR('Budget tracker'!G18<>"",'Budget tracker'!H18<>"",'Budget tracker'!L18<>""),IF('Budget tracker'!H18="","",'Budget tracker'!H18),"") -> 46522 | D33: =IF(OR('Budget tracker'!G18<>"",'Budget tracker'!H18<>"",'Budget tracker'!L18<>""),IF('Budget tracker'!L18="","",'Budget tracker'!L18),"") | E33: =IF(OR('Budget tracker'!G18<>"",'Budget tracker'!H18<>"",'Budget tracker'!L18<>""),IF('Budget tracker'!N18="","",'Budget tracker'!N18),"") -> 0 | F33: =IF(OR('Budget tracker'!G18<>"",'Budget tracker'!H18<>"",'Budget tracker'!L18<>""),IF('Budget tracker'!O18="","",'Budget tracker'!O18),"") -> 0
A34: =IF(OR('Budget tracker'!G19<>"",'Budget tracker'!H19<>"",'Budget tracker'!L19<>""),IF('Budget tracker'!B19="","",'Budget tracker'!B19),"") | B34: =IF(OR('Budget tracker'!G19<>"",'Budget tracker'!H19<>"",'Budget tracker'!L19<>""),IF('Budget tracker'!G19="","",'Budget tracker'!G19),"") | C34: =IF(OR('Budget tracker'!G19<>"",'Budget tracker'!H19<>"",'Budget tracker'!L19<>""),IF('Budget tracker'!H19="","",'Budget tracker'!H19),"") | D34: =IF(OR('Budget tracker'!G19<>"",'Budget tracker'!H19<>"",'Budget tracker'!L19<>""),IF('Budget tracker'!L19="","",'Budget tracker'!L19),"") | E34: =IF(OR('Budget tracker'!G19<>"",'Budget tracker'!H19<>"",'Budget tracker'!L19<>""),IF('Budget tracker'!N19="","",'Budget tracker'!N19),"") | F34: =IF(OR('Budget tracker'!G19<>"",'Budget tracker'!H19<>"",'Budget tracker'!L19<>""),IF('Budget tracker'!O19="","",'Budget tracker'!O19),"")
A35: =IF(OR('Budget tracker'!G20<>"",'Budget tracker'!H20<>"",'Budget tracker'!L20<>""),IF('Budget tracker'!B20="","",'Budget tracker'!B20),"") | B35: =IF(OR('Budget tracker'!G20<>"",'Budget tracker'!H20<>"",'Budget tracker'!L20<>""),IF('Budget tracker'!G20="","",'Budget tracker'!G20),"") | C35: =IF(OR('Budget tracker'!G20<>"",'Budget tracker'!H20<>"",'Budget tracker'!L20<>""),IF('Budget tracker'!H20="","",'Budget tracker'!H20),"") | D35: =IF(OR('Budget tracker'!G20<>"",'Budget tracker'!H20<>"",'Budget tracker'!L20<>""),IF('Budget tracker'!L20="","",'Budget tracker'!L20),"") | E35: =IF(OR('Budget tracker'!G20<>"",'Budget tracker'!H20<>"",'Budget tracker'!L20<>""),IF('Budget tracker'!N20="","",'Budget tracker'!N20),"") | F35: =IF(OR('Budget tracker'!G20<>"",'Budget tracker'!H20<>"",'Budget tracker'!L20<>""),IF('Budget tracker'!O20="","",'Budget tracker'!O20),"")
A36: =IF(OR('Budget tracker'!G21<>"",'Budget tracker'!H21<>"",'Budget tracker'!L21<>""),IF('Budget tracker'!B21="","",'Budget tracker'!B21),"") | B36: =IF(OR('Budget tracker'!G21<>"",'Budget tracker'!H21<>"",'Budget tracker'!L21<>""),IF('Budget tracker'!G21="","",'Budget tracker'!G21),"") | C36: =IF(OR('Budget tracker'!G21<>"",'Budget tracker'!H21<>"",'Budget tracker'!L21<>""),IF('Budget tracker'!H21="","",'Budget tracker'!H21),"") | D36: =IF(OR('Budget tracker'!G21<>"",'Budget tracker'!H21<>"",'Budget tracker'!L21<>""),IF('Budget tracker'!L21="","",'Budget tracker'!L21),"") | E36: =IF(OR('Budget tracker'!G21<>"",'Budget tracker'!H21<>"",'Budget tracker'!L21<>""),IF('Budget tracker'!N21="","",'Budget tracker'!N21),"") | F36: =IF(OR('Budget tracker'!G21<>"",'Budget tracker'!H21<>"",'Budget tracker'!L21<>""),IF('Budget tracker'!O21="","",'Budget tracker'!O21),"")
A37: =IF(OR('Budget tracker'!G22<>"",'Budget tracker'!H22<>"",'Budget tracker'!L22<>""),IF('Budget tracker'!B22="","",'Budget tracker'!B22),"") | B37: =IF(OR('Budget tracker'!G22<>"",'Budget tracker'!H22<>"",'Budget tracker'!L22<>""),IF('Budget tracker'!G22="","",'Budget tracker'!G22),"") | C37: =IF(OR('Budget tracker'!G22<>"",'Budget tracker'!H22<>"",'Budget tracker'!L22<>""),IF('Budget tracker'!H22="","",'Budget tracker'!H22),"") | D37: =IF(OR('Budget tracker'!G22<>"",'Budget tracker'!H22<>"",'Budget tracker'!L22<>""),IF('Budget tracker'!L22="","",'Budget tracker'!L22),"") | E37: =IF(OR('Budget tracker'!G22<>"",'Budget tracker'!H22<>"",'Budget tracker'!L22<>""),IF('Budget tracker'!N22="","",'Budget tracker'!N22),"") | F37: =IF(OR('Budget tracker'!G22<>"",'Budget tracker'!H22<>"",'Budget tracker'!L22<>""),IF('Budget tracker'!O22="","",'Budget tracker'!O22),"")
A38: =IF(OR('Budget tracker'!G23<>"",'Budget tracker'!H23<>"",'Budget tracker'!L23<>""),IF('Budget tracker'!B23="","",'Budget tracker'!B23),"") | B38: =IF(OR('Budget tracker'!G23<>"",'Budget tracker'!H23<>"",'Budget tracker'!L23<>""),IF('Budget tracker'!G23="","",'Budget tracker'!G23),"") | C38: =IF(OR('Budget tracker'!G23<>"",'Budget tracker'!H23<>"",'Budget tracker'!L23<>""),IF('Budget tracker'!H23="","",'Budget tracker'!H23),"") | D38: =IF(OR('Budget tracker'!G23<>"",'Budget tracker'!H23<>"",'Budget tracker'!L23<>""),IF('Budget tracker'!L23="","",'Budget tracker'!L23),"") | E38: =IF(OR('Budget tracker'!G23<>"",'Budget tracker'!H23<>"",'Budget tracker'!L23<>""),IF('Budget tracker'!N23="","",'Budget tracker'!N23),"") | F38: =IF(OR('Budget tracker'!G23<>"",'Budget tracker'!H23<>"",'Budget tracker'!L23<>""),IF('Budget tracker'!O23="","",'Budget tracker'!O23),"")
A39: =IF(OR('Budget tracker'!G24<>"",'Budget tracker'!H24<>"",'Budget tracker'!L24<>""),IF('Budget tracker'!B24="","",'Budget tracker'!B24),"") | B39: =IF(OR('Budget tracker'!G24<>"",'Budget tracker'!H24<>"",'Budget tracker'!L24<>""),IF('Budget tracker'!G24="","",'Budget tracker'!G24),"") | C39: =IF(OR('Budget tracker'!G24<>"",'Budget tracker'!H24<>"",'Budget tracker'!L24<>""),IF('Budget tracker'!H24="","",'Budget tracker'!H24),"") | D39: =IF(OR('Budget tracker'!G24<>"",'Budget tracker'!H24<>"",'Budget tracker'!L24<>""),IF('Budget tracker'!L24="","",'Budget tracker'!L24),"") | E39: =IF(OR('Budget tracker'!G24<>"",'Budget tracker'!H24<>"",'Budget tracker'!L24<>""),IF('Budget tracker'!N24="","",'Budget tracker'!N24),"") | F39: =IF(OR('Budget tracker'!G24<>"",'Budget tracker'!H24<>"",'Budget tracker'!L24<>""),IF('Budget tracker'!O24="","",'Budget tracker'!O24),"")
A40: =IF(OR('Budget tracker'!G25<>"",'Budget tracker'!H25<>"",'Budget tracker'!L25<>""),IF('Budget tracker'!B25="","",'Budget tracker'!B25),"") | B40: =IF(OR('Budget tracker'!G25<>"",'Budget tracker'!H25<>"",'Budget tracker'!L25<>""),IF('Budget tracker'!G25="","",'Budget tracker'!G25),"") | C40: =IF(OR('Budget tracker'!G25<>"",'Budget tracker'!H25<>"",'Budget tracker'!L25<>""),IF('Budget tracker'!H25="","",'Budget tracker'!H25),"") | D40: =IF(OR('Budget tracker'!G25<>"",'Budget tracker'!H25<>"",'Budget tracker'!L25<>""),IF('Budget tracker'!L25="","",'Budget tracker'!L25),"") | E40: =IF(OR('Budget tracker'!G25<>"",'Budget tracker'!H25<>"",'Budget tracker'!L25<>""),IF('Budget tracker'!N25="","",'Budget tracker'!N25),"") | F40: =IF(OR('Budget tracker'!G25<>"",'Budget tracker'!H25<>"",'Budget tracker'!L25<>""),IF('Budget tracker'!O25="","",'Budget tracker'!O25),"")
A41: =IF(OR('Budget tracker'!G26<>"",'Budget tracker'!H26<>"",'Budget tracker'!L26<>""),IF('Budget tracker'!B26="","",'Budget tracker'!B26),"") | B41: =IF(OR('Budget tracker'!G26<>"",'Budget tracker'!H26<>"",'Budget tracker'!L26<>""),IF('Budget tracker'!G26="","",'Budget tracker'!G26),"") | C41: =IF(OR('Budget tracker'!G26<>"",'Budget tracker'!H26<>"",'Budget tracker'!L26<>""),IF('Budget tracker'!H26="","",'Budget tracker'!H26),"") | D41: =IF(OR('Budget tracker'!G26<>"",'Budget tracker'!H26<>"",'Budget tracker'!L26<>""),IF('Budget tracker'!L26="","",'Budget tracker'!L26),"") | E41: =IF(OR('Budget tracker'!G26<>"",'Budget tracker'!H26<>"",'Budget tracker'!L26<>""),IF('Budget tracker'!N26="","",'Budget tracker'!N26),"") | F41: =IF(OR('Budget tracker'!G26<>"",'Budget tracker'!H26<>"",'Budget tracker'!L26<>""),IF('Budget tracker'!O26="","",'Budget tracker'!O26),"")
A42: =IF(OR('Budget tracker'!G27<>"",'Budget tracker'!H27<>"",'Budget tracker'!L27<>""),IF('Budget tracker'!B27="","",'Budget tracker'!B27),"") | B42: =IF(OR('Budget tracker'!G27<>"",'Budget tracker'!H27<>"",'Budget tracker'!L27<>""),IF('Budget tracker'!G27="","",'Budget tracker'!G27),"") | C42: =IF(OR('Budget tracker'!G27<>"",'Budget tracker'!H27<>"",'Budget tracker'!L27<>""),IF('Budget tracker'!H27="","",'Budget tracker'!H27),"") | D42: =IF(OR('Budget tracker'!G27<>"",'Budget tracker'!H27<>"",'Budget tracker'!L27<>""),IF('Budget tracker'!L27="","",'Budget tracker'!L27),"") | E42: =IF(OR('Budget tracker'!G27<>"",'Budget tracker'!H27<>"",'Budget tracker'!L27<>""),IF('Budget tracker'!N27="","",'Budget tracker'!N27),"") | F42: =IF(OR('Budget tracker'!G27<>"",'Budget tracker'!H27<>"",'Budget tracker'!L27<>""),IF('Budget tracker'!O27="","",'Budget tracker'!O27),"")
